BEGIN:VCALENDAR
VERSION:2.0
X-WR-CALNAME:www.indybay.org
PRODID:-//indybay/ical// v1.0//EN
BEGIN:VEVENT
UID:Indybay-18614920
SEQUENCE:18668782
CREATED:20090809T152100Z
DESCRIPTION:\nhttp://www.myspace.com/thegoodfestival\n\nhttp://www.facebook.com/s.php?q=the+good+festival&n=-1&k=400000000010&sf=r&init=srp#/group.php?gid=98913712646&ref=mf\n\nSunday, 
 August 9, 1-7 PM\nVillage of the Future area-wide Workshop\nWhat future do 
 you wish to create for your community and our World?\nHealth, economy, 
 transportation, housing, energy, dance, art, music, fun…\nVillage of the 
 Future is a growing movement of that has been created in the Fairfax area 
 to help resolve issues we face today and implement sustainable solutions 
 from a community based approach and have fun doing it!\nCome see many 
 projects ranging from local healthcare to community building to 
 sustainability to local economy to dance to youth groups and much more.  
 Or, work with others to create or advance your own project.\nThere will be 
 drinks and nice foods.  We expect a large crowd so come early!\n$10 
 suggested donation, no one turned away – everyone 
 welcome\nContact:\n415-306-2735\nthegoodfestival@yahoo.com\nThanks, we’ll 
 see ya there!\nLocation: Fairfax - The Center – 781 Bolinas Road (approx 
 1 mi. from town)\n\nput up by http://twitter.com/davidaquinley \n\n or 
 http://home.myspace.com/index.cfm?fuseaction=user or 
 \n\nhttp://network.greenchange.org/me\n\n 
 https://www.indybay.org/newsitems/2009/08/09/18614920.php
SUMMARY:fairfax:creating a substainable village of the future
LOCATION:the center - 781 bolinas rd. \n\noff of sir Francis drake you can get on at 
 101 at greenbrae - look for fairfax theater - then 1 block away
URL:https://www.indybay.org/newsitems/2009/08/09/18614920.php
DTSTART:20090809T200000Z
DTEND:20090810T020000Z
END:VEVENT
END:VCALENDAR
