BEGIN:VCALENDAR
VERSION:2.0
X-WR-CALNAME:www.indybay.org
PRODID:-//indybay/ical// v1.0//EN
BEGIN:VEVENT
UID:Indybay-18614329
SEQUENCE:18668066
CREATED:20090806T160300Z
DESCRIPTION:In the hopes of providing a better life for her son, Carlitos, Rosario 
 works illegally in the U.S. while her mother cares for Carlitos back in 
 Mexico. Unexpected circumstances drive both Rosario and Carlitos to embark 
 on their own journeys in a desperate attempt to reunite. Along the way, 
 mother and son face challenges and obstacles but never lose hope that they 
 will one day be together again.\n\nBRING blankets, pillows, friends, drink, 
 & snackies to share for intermission. Donations to support the project are 
 more than welcome.\n 
 https://www.indybay.org/newsitems/2009/08/06/18614329.php
SUMMARY:La Misma Luna (Under the Same Moon) - Guerilla Drive In Showing
LOCATION:Beach Flats Community Garden (Raymond & Park Pl) by the Boardwalk
URL:https://www.indybay.org/newsitems/2009/08/06/18614329.php
DTSTART:20090815T030000Z
DTEND:20090815T050000Z
END:VEVENT
END:VCALENDAR
