BEGIN:VCALENDAR
VERSION:2.0
X-WR-CALNAME:www.indybay.org
PRODID:-//indybay/ical// v1.0//EN
BEGIN:VEVENT
UID:Indybay-18613996
SEQUENCE:18667593
CREATED:20090804T233400Z
DESCRIPTION:Mozzarella and Heirloom Tomato Tasting Class\nThis is a ticketed event, $20 
 per ticket. \n\nTickets may be purchased here: 
 http://www.brownpapertickets.com/event/76327. \n\nPlease note that material 
 covered will be the same as in the class that was taught on Monday 
 8/3.\n\nJoin Bi-Rite farm manager Simon Richard and cheese buyer Anthea 
 Stolz for an evening dedicated to the simple summer pleasures of heirloom 
 tomatoes and fresh mozzarella.  \n\nAnthea will demonstrate how to make 
 fresh mozzarella, which we'll pair with Simon's tomatoes for a caprese that 
 the class will eat.  We'll  taste through a selection of fresh mozzarella 
 and Burrata offerings, from as close as Berkeley's Belfiore, to Gustosella 
 buffalo mozzarella imported from Southern Italy, and Italian Burrata from 
 southern Italy's Caseifico Maldera.  \n\nYou'll also learn about different 
 types of tomatoes and taste the fruits of Simon's labor, from Cherokee 
 Purple with its dusty pink flesh to the fruity Black Prince, to the marbled 
 flesh of the Striped German and the tangy Green Zebra.\n\n\n* * * *\n18 
 Reasons Memberships now available!\n\nBecome a member of 18 Reasons - a 
 not-for-profit organization - and along with our eternal thanks, you'll 
 receive invitations to members-only tastings, dinners, and art openings, as 
 well as a special thank you gift from some fine establishments in the 
 neighborhood. More importantly, you'll help keep this space 
 alive.\n\nMemberships cost $40 and are available at 18 Reasons and at 
 Bi-Rite Market, or by email to info@18reasons.org. Members receive a card 
 which is good for one year, and which you can use for a one time promotion 
 at each of the following businesses:\n\n    * free single scoop at Bi-Rite 
 Creamery\n    * free rental at Fayes Video and Espresso Bar\n    * $5 off a 
 pizza at Delfina Pizzeria\n    * $5 gift card to Dolores Park Cafe\n    * 
 $5 gift card to Bi-Rite Market\n    * $5 gift card to Tartine\n\nThat's $30 
 worth of great food and movies plus a membership for $40! Thanks to these 
 local businesses for helping support 18 Reasons.\n 
 https://www.indybay.org/newsitems/2009/08/04/18613996.php
SUMMARY:18th Hour: Making Mozarella & Tasting Tomatoes
LOCATION:593 Guerrero St., San Francisco, CA, 94110
URL:https://www.indybay.org/newsitems/2009/08/04/18613996.php
DTSTART:20090825T020000Z
DTEND:20090825T030000Z
END:VEVENT
END:VCALENDAR
