BEGIN:VCALENDAR
VERSION:2.0
X-WR-CALNAME:www.indybay.org
PRODID:-//indybay/ical// v1.0//EN
BEGIN:VEVENT
UID:Indybay-18613718
SEQUENCE:18667197
CREATED:20090803T002000Z
DESCRIPTION:City Councilman, Gary Davis: Serving Elk Grove Youth. Councilman Davis has 
 long been a strong proponent of the importance of youth programs.\n 
 https://www.indybay.org/newsitems/2009/08/02/18613718.php
SUMMARY:Elk Grove Peace and Justice Forum
LOCATION:Elk Grove Library, Community Room, 8900 Elk Grove Blvd., Elk Grove
URL:https://www.indybay.org/newsitems/2009/08/02/18613718.php
DTSTART:20090811T020000Z
DTEND:20090811T040000Z
END:VEVENT
END:VCALENDAR
