BEGIN:VCALENDAR
VERSION:2.0
X-WR-CALNAME:www.indybay.org
PRODID:-//indybay/ical// v1.0//EN
BEGIN:VEVENT
UID:Indybay-18613315
SEQUENCE:18666600
CREATED:20090730T220600Z
DESCRIPTION:Description: 	“FRESH celebrates the farmers, thinkers and business people 
 across America who are re-inventing our food system. Each has witnessed the 
 rapid transformation of our agriculture into an industrial model, and 
 confronted the consequences: food contamination, environmental pollution, 
 depletion of natural resources, and morbid obesity. Forging healthier, 
 sustainable alternatives, they offer a practical vision for a future of our 
 food and our planet.” Cheap food is an illusion, the real cost of food is 
 paid somewhere. \n\nBrahm Ahmadi will speak. \n\nDonation $10. \n\nFilm 
 Trailer on Youtube: http://www.youtube.com/watch?v=KwR44T69_Is\n 
 https://www.indybay.org/newsitems/2009/07/30/18613315.php
SUMMARY:FRESH: New thinking about what we're eating
LOCATION:Saul's Restaurant\n1475 Shattuck Ave.\nBerkeley, CA 94709
URL:https://www.indybay.org/newsitems/2009/07/30/18613315.php
DTSTART:20090812T023000Z
DTEND:20090812T043000Z
END:VEVENT
END:VCALENDAR
