BEGIN:VCALENDAR
VERSION:2.0
X-WR-CALNAME:www.indybay.org
PRODID:-//indybay/ical// v1.0//EN
BEGIN:VEVENT
UID:Indybay-18612943
SEQUENCE:18666150
CREATED:20090729T082200Z
DESCRIPTION:with Alan Nechow...although perfect online security is never possible there 
 are sertain steps one can take to make snoping much harder. This class is 
 an over view of technologies you can use to gain somre measure of privacy 
 in online communication \n 
 https://www.indybay.org/newsitems/2009/07/29/18612943.php
SUMMARY:East Bay Free Skool Class: Secure(r) Online Communication
LOCATION:Long Haul (3124 Shattuck @ Prince, Berk) 
URL:https://www.indybay.org/newsitems/2009/07/29/18612943.php
DTSTART:20090809T220000Z
DTEND:20090810T000000Z
END:VEVENT
END:VCALENDAR
