BEGIN:VCALENDAR
VERSION:2.0
X-WR-CALNAME:www.indybay.org
PRODID:-//indybay/ical// v1.0//EN
BEGIN:VEVENT
UID:Indybay-18612937
SEQUENCE:18666144
CREATED:20090729T080200Z
DESCRIPTION:with kristen and slim chance...learn to juggle, unicycle, spin plates, walk 
 on stilts, do acrobalance, stretch and more \n 
 https://www.indybay.org/newsitems/2009/07/29/18612937.php
SUMMARY:East Bay Free Skool Class: Circus Skillshare
LOCATION:444 harrison oak
URL:https://www.indybay.org/newsitems/2009/07/29/18612937.php
DTSTART:20090805T020000Z
DTEND:20090805T040000Z
END:VEVENT
END:VCALENDAR
