BEGIN:VCALENDAR
VERSION:2.0
X-WR-CALNAME:www.indybay.org
PRODID:-//indybay/ical// v1.0//EN
BEGIN:VEVENT
UID:Indybay-18612936
SEQUENCE:18666143
CREATED:20090729T080000Z
DESCRIPTION:with hunter dragon...eat food not bombs, talk about pupeteering, make 
 puppets, perform. This is a skillshare, hunter dragon doesnt know a thing 
 about puppets. Requirements: openness, playfulness \n 
 https://www.indybay.org/newsitems/2009/07/29/18612936.php
SUMMARY:East Bay Free Skool Class: Puppet Skillshare
LOCATION:Peoples Park (dwight and telegraph) 
URL:https://www.indybay.org/newsitems/2009/07/29/18612936.php
DTSTART:20090804T220000Z
DTEND:20090804T230000Z
END:VEVENT
END:VCALENDAR
