BEGIN:VCALENDAR
VERSION:2.0
X-WR-CALNAME:www.indybay.org
PRODID:-//indybay/ical// v1.0//EN
BEGIN:VEVENT
UID:Indybay-18612280
SEQUENCE:18665348
CREATED:20090724T170500Z
DESCRIPTION:When an Egyptian police brass band travels to Israel to play at the opening 
 of an Arab arts center, the group ends up abandoned and lost in a remote 
 desert town, igniting a charming cross-cultural comedy. Defying 
 expectations, the tiny Israeli community embraces the musicians, and both 
 the Egyptians and the locals learn a few things about one another -- and 
 themselves. This witty foreign-language film nabbed the Un Certain Regard 
 prize at Cannes.\n\nPresented by BFUU Social Justice Ctee’s Conscientious 
 Projector series\nDonations welcomed for our on-going social justice 
 work\nWheelchair accessible\nwww.bfuu.org\n\nContact: 510-495-5132\n\nFor 
 occasional email notices of peace/eco/social justice alerts and related 
 events at BFUU, send any email 
 to:\nbfuusjev-subscribe@lists.riseup.net\n\nFor weekly notices of BFUU 
 services etc. go to:\nwww.bfuu.org/signup.html\n\n 
 https://www.indybay.org/newsitems/2009/07/24/18612280.php
SUMMARY:Screening of: “The Band’s Visit”
LOCATION:Berkeley Fellowship of Unitarian Universalists’ Hall \n1924 Cedar 
 (@Bonita), Berkeley\n
URL:https://www.indybay.org/newsitems/2009/07/24/18612280.php
DTSTART:20090815T023000Z
DTEND:20090815T043000Z
END:VEVENT
END:VCALENDAR
