BEGIN:VCALENDAR
VERSION:2.0
X-WR-CALNAME:www.indybay.org
PRODID:-//indybay/ical// v1.0//EN
BEGIN:VEVENT
UID:Indybay-18612172
SEQUENCE:18665196
CREATED:20090723T165800Z
DESCRIPTION:"The history of a revolution is for us first of all a history of the 
 forcible entrance of the masses into the realm of rulership over their own 
 destiny." —Leon Trotsky\n\nContrary to what most of us have been taught, 
 the Russian Revolution was not a coup made by a small band of zealous 
 Bolshevik conspirators who terrorized the passive Russian masses.\n\nIn 
 reality, it was a revolution from the bottom up, made by millions of 
 regular people stepping onto the stage of history to fight for a better 
 society. The Bolshevik party was a vibrant group of hundreds of thousands 
 of fiercely democratic, self-confident activists of & for the working 
 classes, committed to the politics of revolution as 
 self-emancipation.\n\nCome to this meeting to learn & discuss what really 
 happened in Russia in 1917, how revolution from below works, & what lessons 
 we can take forward to our struggles for justice today.\n\n 
 https://www.indybay.org/newsitems/2009/07/23/18612172.php
SUMMARY:Ten Days That Shook the World (How the Russian Revolution Was Won)
LOCATION:ISO Office\n110 Capp Street, #202 (near 16th St. BART)\nSan Francisco, CA
URL:https://www.indybay.org/newsitems/2009/07/23/18612172.php
DTSTART:20090822T200000Z
DTEND:20090822T220000Z
END:VEVENT
END:VCALENDAR
