BEGIN:VCALENDAR
VERSION:2.0
X-WR-CALNAME:www.indybay.org
PRODID:-//indybay/ical// v1.0//EN
BEGIN:VEVENT
UID:Indybay-18612065
SEQUENCE:18665063
CREATED:20090722T223600Z
DESCRIPTION:\nEvent Topic: 	education\nEvent Type: 	\nContact Name: 
 	davidquinley@aol.com\nContact Phone: 	415 479 1888\nDESCRIPTION:\nCutting 
 Dreams: Orientation on Education's Struggle Against the Budget\nHost:\nSave 
 Cal Grants Coalition\nType:\nEducation - 
 Workshop\nNetwork:\nGlobal\nDate:\nThursday, July 23, 2009\nTime:\n10:00pm 
 - 11:00pm\nLocation:\nHome, UCLA, work, anywhere you are, you can 
 join!\nDescription\nWhether you are ready to take action or just looking to 
 inform yourself about the current budget and higher education, this is the 
 perfect call for you! Join the Save Cal Grants Coalition's conference call 
 on how the current proposed budget will hurt higher education. We will host 
 many student leaders from various UCLA organizations for a call to discuss 
 the budget and how the cuts to higher education will affect us all. We will 
 also discuss ideas on how we can organize to fight these cuts and future 
 attacks on higher education.\n\nYou can access the conference call with the 
 following information:\n1-219-509-8111\nAccess code: 458202\nConfirmed 
 Guests\nThis event has 6 confirmed guestsSee All\nMaria Patiño\nMaria 
 Patiño\nDieu Huynh\nDieu Huynh\nErienne Overli\nErienne Overli\nNoe 
 Garcia\nNoe Garcia\nChristopher Santos\nChristopher Santos\nRaisa 
 Avezova\nRaisa Avezova\nThe Wall\nNo wall posts \n 
 https://www.indybay.org/newsitems/2009/07/22/18612065.php
SUMMARY:Last Save CalGrants Call for 2009 Wen. 22nd same time and info
LOCATION:Last Save CalGrants Call for 2009 Wen. 22nd same time and info \n\nCutting 
 Dreams: Orientation on Education's Struggle\nSTART DATE: 	7/23/2009\nSTART 
 TIME: 	10:00 PM\nDuration: 	1 Hours\nLocation: 	UCLA and State Phone 
 Meet\nLocation 
 Details:\nhttp://www.facebook.com/event.php?eid=106771493356\n\nYou can 
 access the conference call with the following 
 information:\n1-219-509-8111\nAccess code: 458202
URL:https://www.indybay.org/newsitems/2009/07/22/18612065.php
DTSTART:20090723T050000Z
DTEND:20090723T060000Z
END:VEVENT
END:VCALENDAR
