BEGIN:VCALENDAR
VERSION:2.0
X-WR-CALNAME:www.indybay.org
PRODID:-//indybay/ical// v1.0//EN
BEGIN:VEVENT
UID:Indybay-18607103
SEQUENCE:18659441
CREATED:20090711T225400Z
DESCRIPTION:California, the federal government and most states are facing budget 
 crises. How much of this is local and how much is it rooted in the overall 
 capitalist economy? How can we build movements to fight for our natural 
 rights to housing, health care and transportation without losing sight of 
 the need for a greater movement to change the system which creates these 
 recurring crises? How would a socialist society try to solve the problems? 
 These will be the questions at a Peace and Freedom Party discussion forum 
 in the parlor room at Spud's Pizza. Food and drink are available for 
 purchase in the next room. Bring your questions and ideas.\n 
 https://www.indybay.org/newsitems/2009/07/11/18607103.php
SUMMARY:Funding a society based on human needs: a Peace and Freedom Party discussion
LOCATION:Spud's Pizza Parlor\nAdeline & Alcatraz Sts.\nBerkeley, CA\n(two blocks 
 from Ashby BART station)\nWheelchair accessible on Adeline St side
URL:https://www.indybay.org/newsitems/2009/07/11/18607103.php
DTSTART:20090725T210000Z
DTEND:20090726T000000Z
END:VEVENT
END:VCALENDAR
