BEGIN:VCALENDAR
VERSION:2.0
X-WR-CALNAME:www.indybay.org
PRODID:-//indybay/ical// v1.0//EN
BEGIN:VEVENT
UID:Indybay-18606388
SEQUENCE:18658657
CREATED:20090709T050600Z
DESCRIPTION:Novella Carpenter, freelance journalist and urban farmer, has written an 
 hilarious and inspiring memoir of a woman who turns a vacant lot in 
 downtown Oakland into a thriving farm. Join us for her captivating 
 descriptions of raising bees, chickens, ducks, turkeys, pigs and delivering 
 salad greens to the Black Panther's youth literacy 
 program.\n\nFREE\n\nwww.omnivorebooks.com\n\n\n 
 https://www.indybay.org/newsitems/2009/07/08/18606388.php
SUMMARY:Farm City: The Education of an Urban Farmer
LOCATION:Omnivore Books on Food\n3885a Cesar Chavez Street\nSan Francisco, CA 94131
URL:https://www.indybay.org/newsitems/2009/07/08/18606388.php
DTSTART:20090809T220000Z
DTEND:20090809T230000Z
END:VEVENT
END:VCALENDAR
