BEGIN:VCALENDAR
VERSION:2.0
X-WR-CALNAME:www.indybay.org
PRODID:-//indybay/ical// v1.0//EN
BEGIN:VEVENT
UID:Indybay-18605548
SEQUENCE:18657550
CREATED:20090704T001400Z
DESCRIPTION:Following the military coup d’etat in Honduras on June 28, the Honduran 
 people responded by taking to the streets demanding the return of President 
 Zelaya. Far-right elements violently forced Zelaya into exile for helping 
 the poor, increasing social spending and advocating closer association with 
 other progressive Latin American governments.\n\nThe coup leaders, who are 
 receiving behind-the-scenes support from the U.S. government, have been 
 overwhelmingly condemned by governments and people worldwide. \n\nDespite 
 increased repression against the Honduran people, they continue to fight 
 for the return of President Zelaya. Now is the time to stand in solidarity 
 with the people of Honduras.\n\nSponsors and endorsers include: \nANSWER 
 Coalition; FMLN-San Francisco; CARECEN San Francisco; Cristina Gutierrez, 
 Executive Director of Compañeros del Barrio\n\n\n 
 https://www.indybay.org/newsitems/2009/07/03/18605548.php
SUMMARY:Vigil / Rally against right-wing coup in Honduras
LOCATION:Honduran Consulate (Flood Bldg.)\n870 Market Street, SF (Market St. & 
 Powell St.)
URL:https://www.indybay.org/newsitems/2009/07/03/18605548.php
DTSTART:20090704T190000Z
DTEND:20090704T210000Z
END:VEVENT
END:VCALENDAR
