BEGIN:VCALENDAR
VERSION:2.0
X-WR-CALNAME:www.indybay.org
PRODID:-//indybay/ical// v1.0//EN
BEGIN:VEVENT
UID:Indybay-18604932
SEQUENCE:18656751
CREATED:20090701T061100Z
DESCRIPTION:SUNDAY, SEPT. 13, NOON - 3 PM: \nVEGETARIAN POTLUCK & SINGING - SEABRIGHT 
 BEACH, SANTA CRUZ\n\n(Across the street from the Museum of Natural History 
 with the Big Whale. \nThe entrance is flat.) Free event. Please bring your 
 plate, cup & serving utensils, \n"Rise Up Singing" books, musical 
 instruments, beach chair or blanket and friends. Cake provided. Free 
 parking on surrounding streets, however watch out for "Permit Only" signs 
 and avoid a parking ticket! \nFor more information, call Karen Kaplan (11 
 AM - 11 PM)  335-3342. \nPlease see attached flyer.\n\n 
 https://www.indybay.org/newsitems/2009/06/30/18604932.php
SUMMARY:VEGETARIAN POTLUCK & SINGING - SEABRIGHT BEACH
LOCATION:SEABRIGHT BEACH, SANTA CRUZ\n(Across the street from the Natural History 
 Museum - The Big Whale.) \n(This is NOT Seacliff Beach!)
URL:https://www.indybay.org/newsitems/2009/06/30/18604932.php
DTSTART:20090913T190000Z
DTEND:20090913T220000Z
END:VEVENT
END:VCALENDAR
