BEGIN:VCALENDAR
VERSION:2.0
X-WR-CALNAME:www.indybay.org
PRODID:-//indybay/ical// v1.0//EN
BEGIN:VEVENT
UID:Indybay-18604524
SEQUENCE:18656228
CREATED:20090629T132600Z
DESCRIPTION:Monday, June 29, 5pm\nProtest Military Coup in Honduras\nHonduran 
 Consulate, 870 Market St. (near Powell St.)\n\nProtest the right-wing 
 military coup against Honduran President Manuel Zelaya. The coup took place 
 this morning (June 28) the day of a scheduled referendum on constitutional 
 reform. President Zelaya was arrested and forcibly exiled to Costa 
 Rica.\n\nLast year, Honduras joined the progressive ALBA-Bolivarian 
 Alternative of the Americas which includes Venezuela, Cuba, Bolivia, 
 Nicaragua and other states. Ambassadors of other ALBA states have 
 reportedly been kidnapped and beaten. For decades, Honduras has been the 
 victim of U.S. intervention and military dictatorships.\n\nThe protest has 
 been initiated by the FMLN-Farbundo Marti National LIberation Front of 
 Northern California and endorsed by the ANSWER Coalition and other 
 organizations.\n\nCall 415-821-6545 for more info. \n 
 https://www.indybay.org/newsitems/2009/06/29/18604524.php
SUMMARY:Protest Military Coup in Honduras
LOCATION:Honduran Consulate, 870 Market St. (near Powell St.)
URL:https://www.indybay.org/newsitems/2009/06/29/18604524.php
DTSTART:20090630T000000Z
DTEND:20090630T020000Z
END:VEVENT
END:VCALENDAR
