BEGIN:VCALENDAR
VERSION:2.0
X-WR-CALNAME:www.indybay.org
PRODID:-//indybay/ical// v1.0//EN
BEGIN:VEVENT
UID:Indybay-18603441
SEQUENCE:18654665
CREATED:20090622T211000Z
DESCRIPTION:oin us for a cultural & historical program that highlights the importance 
 of the African Diaspora through music & dance in Latin America. 
 Performances are preceded by a symposium lead by master musicians and 
 dancers. Program made possible in part by a grant from ACTA. \n\nTonight's 
 show consists of: De Rompe y Raja, Afro-Peruvian; Ensemble Ballet 
 Folklórico Mejicano, Afro-Mexican; Son Boricua-Hector Lugo/Shefali Shah, 
 Afro-Puerto Rican; Sandy Perez y Su Lade, Afro-Cuban. \n 
 https://www.indybay.org/newsitems/2009/06/22/18603441.php
SUMMARY:Diáspora Negra - The African Legacy in Latin America
LOCATION:La Peña Cultural Center\nSymposium: 6:45, Free\nPerformance: 8:30, $18 
 adv. $20 dr.\nfor reservations call: (510) 849-2568 ext. 20 (W-Sat, 
 1-6:00)\nor go online at: http://www.lapena.org/event/1160
URL:https://www.indybay.org/newsitems/2009/06/22/18603441.php
DTSTART:20090815T134500Z
DTEND:20090815T174500Z
END:VEVENT
END:VCALENDAR
