BEGIN:VCALENDAR
VERSION:2.0
X-WR-CALNAME:www.indybay.org
PRODID:-//indybay/ical// v1.0//EN
BEGIN:VEVENT
UID:Indybay-18603433
SEQUENCE:18654657
CREATED:20090622T204800Z
DESCRIPTION:Protest against BUDGET CUTS for higher ed. in Cali\nSTART DATE: 
 	6/22/2009\nSTART TIME: 	5pm \nDuration: 	4 Hours\nLocation: 	300 spring 
 st. governors LA office\nLocation Details:\nHere are the directions to the 
 rally from UCLA on Monday:\n\nTake the 3:44 pm Commuter Express 534 
 (Express Downtown LA) on the South East corner of Westwood and Wilshire to 
 1st/ Grand St. Walk North East on Grand towards Temple St. for 0.2 miles. 
 Then turn Right on Temple, and walk for less than 0.1 miles. You will 
 arrive at 500 W. Temple!\nEvent Topic: 	education\nEvent Type: 
 	demonstration\nContact Name: 	david quinley\nContact Email: 
 	davidquinley@aol.com\nContact Phone: 	415 479 1888\nDESCRIPTION:\n\nSTART 
 DATE: 6/19/2009\nSTART TIME: 10:30 AM\nDuration: 10 Hours\nLocation: 300 
 spring st., In LA\nLocation Details:\ngovernors LA office\nEvent Topic: 
 educ. protest\nEvent Type: demonstration\nContact Name: david 
 quinley\nContact Email: davidquinley@aol.com\nContact Phone: 415 479 
 1888\nDESCRIPTION:\n\nBUDGET CUTS for higher ed. in calif. rallies is 
 10:30am, 300 spring st., In LA\n\ngovernors LA office fri. and mon. at 
 10:30am\n\nendorsed 
 by\n\nhttp://groups.yahoo.com/group/gpcaucusofcalsacc/\n\nresources\n\nhttp://www.govirtual.us/index.html\n\nhttp://groups.google.com/group/save-cal-grants-coalition?msg=subscribe\n\nhttp://www.facebook.com/ext/share.php?sid=90782594836&h=FixwH&u=OnAjk&re\\\nf=mf\n\nhttp://www.facebook.com/profile.php?id=857344320&ref=profile#/pages/Save\\\n-Cal-Grants-Coalition/85478634453?ref=ts\n\nhttp://groups.yahoo.com/group/gpcaucusofcalsacc/\n\nim\nhttp://www.facebook.com/profile.php?id=857344320&ref=profile#/profile.ph\\\np?id=857344320&ref=profile 
 \n https://www.indybay.org/newsitems/2009/06/22/18603433.php
SUMMARY:Governors LA office Protest against CalGrants Cuts+Other BUDGET CUTS for higher educ.
LOCATION:http://www.facebook.com/photo.php?pid=1807493&id=857344320&saved#/event.php?eid=98868337610&ref=mf
URL:https://www.indybay.org/newsitems/2009/06/22/18603433.php
DTSTART:20090623T000000Z
DTEND:20090623T040000Z
END:VEVENT
END:VCALENDAR
