BEGIN:VCALENDAR
VERSION:2.0
X-WR-CALNAME:www.indybay.org
PRODID:-//indybay/ical// v1.0//EN
BEGIN:VEVENT
UID:Indybay-18603364
SEQUENCE:18654571
CREATED:20090622T133100Z
DESCRIPTION:Start the summer at the premiere show of the 2009 season production "Too 
 Big To Fail." \n\nJoin the big crowd under sunny skies, beautiful view, 
 great music, and welcomed by the Sisters of Perpetual Indulgence, as the 
 San Francisco puts the big story of the day to the test. Song and jibe, set 
 to classic theater on a tiny stage.\n\nFree to watch - pay to escape! Dogs 
 and frisbees welcome\n\n 
 https://www.indybay.org/newsitems/2009/06/22/18603364.php
SUMMARY:SF Mime Troupe's "Too Big To Fail"
LOCATION:Dolores Park\n18th St. & Dolores St., San Francisco
URL:https://www.indybay.org/newsitems/2009/06/22/18603364.php
DTSTART:20090704T203000Z
DTEND:20090704T233000Z
END:VEVENT
END:VCALENDAR
