BEGIN:VCALENDAR
VERSION:2.0
X-WR-CALNAME:www.indybay.org
PRODID:-//indybay/ical// v1.0//EN
BEGIN:VEVENT
UID:Indybay-18602787
SEQUENCE:18653820
CREATED:20090619T222700Z
DESCRIPTION:http://photocentral.org/25Views/\n\nThe Hayward Area Park and Recreation 
 District’s PhotoCentral Gallery presents\n25 Views: A Photographic 
 Journey.\nThis exhibition features the work of the members of the 2009 
 Photographic Portfolio class at Foothill College under the direction of 
 Kate Jordahl including photographic artists Wendy Akers-Ghose, Arthur 
 Benjamin, Susan Carnahan, Shannon Chan, Tamara Danoyan, Lisa DeNeffe, 
 Robert Filman, Noa Grant, Sassan Hazeghi, Rafael Hernandez, Susan Elting 
 Hillyard, Oliver Klink, Hana Krulova, Bob Mazawa, David Lee Milgram, Arnona 
 Oren, Samuel Perez, Duc Bieu Pham, Meggi Raeder, Christina Salangsang, 
 Timothy Sandstrom, Jennifer L. Spencer, Helen Tindall, Julia Weber, and 
 Barbara Zaslow. This two quarter class developed and taught by Kate Jordahl 
 is the final class for students seeking certificates and associate degrees 
 in photography. In the winter quarter, students set their professional 
 goals and developed a portfolio of photographs to help them meet those 
 goal.  Through the spring quarter,  they then build support materials and 
 share the work through exhibitions and special events. The work is eclectic 
 and represents the diversity of interests and career paths of the Foothill 
 College photography program's students. Join us in celebrating the 
 accomplishments of these talented photography students. \n\nAll are invited 
 to a reception and portfolio viewing on Friday, June 26 from 6:30-9:30 pm. 
 The exhibition continues through August 29, 2009.\n\nFor more information 
 on this exhibition, visit PhotoCentral on the web at www.photocentral.org 
 or email 25views@photocentral.org.\nDates: 6/26/09 – 
 8/29/09\nReception/portfolio viewing: Fri, 6/26, 6:30-9:30 pm\nGallery 
 Hours: Monday 5-10 pm or by appointment with an 
 artist\n25views@photocentral.org • www.photocentral.org \n 
 https://www.indybay.org/newsitems/2009/06/19/18602787.php
SUMMARY:25 Views: A Photographic Journey
LOCATION:Hayward Area Parks & Recreation Department\nPhotoCentral\n1099 E Street, 
 Hayward, California 94541\nhttp://www.photocentral.org/aboutus.html  
 (Directions and map at the bottom of the page.)
URL:https://www.indybay.org/newsitems/2009/06/19/18602787.php
DTSTART:20090627T013000Z
DTEND:20090627T043000Z
END:VEVENT
END:VCALENDAR
