BEGIN:VCALENDAR
VERSION:2.0
X-WR-CALNAME:www.indybay.org
PRODID:-//indybay/ical// v1.0//EN
BEGIN:VEVENT
UID:Indybay-18602618
SEQUENCE:18653640
CREATED:20090619T081200Z
DESCRIPTION:The Trap: What Happened to Our Dream of Freedom\nSaturday, June 27th, 
 7:00pm\nJoyce Beers Community Center\n1220 Cleveland Ave., Hillcrest in the 
 city of San Diego\n\nFilm Description:\nIn this BBC documentary by English 
 filmmaker Adam Curtis, the concept and definition of freedom is explored, 
 tracing how a simplistic model of human beings as selfseeking, almost 
 robotic, creatures led to today's idea of freedom. Covering a wide range of 
 liberty related topics, the film addresses the development and influence of 
 game theory during the Cold War, the use of psychoactive drugs to normalize 
 behavior and make humans more predictable, competing concepts of liberty, 
 and the premise that all attempts to create positive liberty necessarily 
 end in coercion and tyranny.\n\n\n \n\n\n\n\nThis film is a very important 
 document which historically traces where the contemporary idea of market 
 driven and market defined freedom came from. It addresses the construct of 
 contemporary notions of freedom that have been inextricably linked to the 
 "free market" ideology that has led to our current state of economic crisis 
 and declining civil liberties.\n\nFor more information 
 Contact:\n1activistsandiego@gmail.com\n(714) 
 595-6912\nwww.ActivistSanDiego.org\n\n 
 https://www.indybay.org/newsitems/2009/06/19/18602618.php
SUMMARY:Activist San Diego Film Series
LOCATION:Joyce Beers Community Center\n1220 Cleveland Ave., Hillcrest in the city of 
 San Diego\n
URL:https://www.indybay.org/newsitems/2009/06/19/18602618.php
DTSTART:20090628T020000Z
DTEND:20090628T050000Z
END:VEVENT
END:VCALENDAR
