BEGIN:VCALENDAR
VERSION:2.0
X-WR-CALNAME:www.indybay.org
PRODID:-//indybay/ical// v1.0//EN
BEGIN:VEVENT
UID:Indybay-18602293
SEQUENCE:18653223
CREATED:20090618T063700Z
DESCRIPTION:"Our Himmlers, Eichmanns Unscathed as Obama Dithers:  Why \nIs He Afraid of 
 the Torturers?" \nFeaturing Ray McGovern \n"I don't want my grandchildren, 
 of whom I have six now, \ncoming up to me when they're old enough and 
 saying, \n'Grandpa, you worked for the CIA. What was it like torturing 
 \npeople?' I would say I didn't torture people, and they would say \nas the 
 German kids say to their parents, 'What did you do to \nstop it?'" \nRay 
 McGovern was a CIA analyst for 27 years. He returned his CIA  "Intelligence 
 Commendation Award" medallion in 2006 saying "I do not wish to be 
 associated with torture". He cofounded Veteran Intelligence Professionals 
 for Sanity and works with "Tell the Word", the publishing arm of the 
 \necumenical Church of the Saviour in Washington, DC. \nPlus: Jon 
 Eisenberg, the lawyer representing the plaintiffs in the famous warrantless 
 wiretapping case Al-Haramain v. Bush. \n"I wonder whether Bybee feels 
 guilty before God. He certainly has no business being a federal judge. His 
 presence on the \nNinth Circuit U.S. Court of Appeals brings disgrace to 
 that court. He should resign." Jon Eisenberg in the SF Recorder \n 
 \nUpdates on torture accountability campaigns: SF National Lawyers Guild 
 Committee Against Torture, Amnesty International, CODEPINK, PDA, Veterans 
 for Peace.\nMusic: Carrie Gerendasy; "her singing is topical, relevant, 
 downright gorgeous"     \n$5-$10 donation, Co-sponsors CODEPINK & Berkeley 
 Fellowship of Unitarian Universalists Social Justice Committee.   
 \nContact: 510-333-6097.  \n 
 https://www.indybay.org/newsitems/2009/06/17/18602293.php
SUMMARY:Ray McGovern: "Our Himmlers, Eichmanns Unscathed as Obama Dithers"
LOCATION:BFUU, 1924 Cedar St., @ Bonita, Berkeley
URL:https://www.indybay.org/newsitems/2009/06/17/18602293.php
DTSTART:20090626T021500Z
DTEND:20090626T034500Z
END:VEVENT
END:VCALENDAR
