BEGIN:VCALENDAR
VERSION:2.0
X-WR-CALNAME:www.indybay.org
PRODID:-//indybay/ical// v1.0//EN
BEGIN:VEVENT
UID:Indybay-18601911
SEQUENCE:18652726
CREATED:20090616T171500Z
DESCRIPTION:Join us Thursday, June 25th, for a night of exploration and\nappreciation 
 of two seminal anarchist journals, Emma Goldman's Mother Earth and 
 Alexander Berkman's The Blast.\n\nWe'll have special guest Jamie Gooey from 
 the Mother Earth Reprint Project, readings from the papers, a brief history 
 of Mother Earth and The Blast from the inestimable Barry Pateman, 
 discussion of current and past reprint projects and music by the always 
 astounding The Devin Hoff Platform!\n\nAll in all it promises to be a night 
 not to be missed!\n\nThursday June 25, 2009\nABSC Meeting Rooms\n522 
 Valencia St.\nSan Francisco, CA\n7pm\n$5 (or $4 with membership)\n\nJamie 
 Gooey, intrigued by anarchist histor,y has worked with other history buffs 
 and print makers to collected a rare 22 original mothers earths and has 
 been able to reprint 7 . With the hope of one day having all 22 copies 
 available for all who seek to hold a facsimile of history in their hands. 
 With the originals selling for hundreds of dollars, the spirit of the 
 editors (Emma Goldman and Alexander Berkman) is demystified with reprints 
 available for a few dollars we can all be more linked to the past while 
 being propelled and inspired into the 
 future.\n\nhttp://alexanderberkmansocialclub.blogspot.com/\nhttp://devinhoffplatform.com/\n 
 https://www.indybay.org/newsitems/2009/06/16/18601911.php
SUMMARY:Alexander Berkman Social Club Meeting: Mother Earth and The Blast
LOCATION:ABSC Meeting Rooms\n522 Valencia St. (between 16th & 17th St.) in San 
 Francisco.
URL:https://www.indybay.org/newsitems/2009/06/16/18601911.php
DTSTART:20090626T020000Z
DTEND:20090626T040000Z
END:VEVENT
END:VCALENDAR
