BEGIN:VCALENDAR
VERSION:2.0
X-WR-CALNAME:www.indybay.org
PRODID:-//indybay/ical// v1.0//EN
BEGIN:VEVENT
UID:Indybay-18601609
SEQUENCE:18652264
CREATED:20090613T234700Z
DESCRIPTION:Hang with the Revolution Club and discuss topics relating to Revolution 
 newspaper and the works of Bob Avakian. Be part of bringing forward a 
 revolutionary movement.\n\n 
 https://www.indybay.org/newsitems/2009/06/13/18601609.php
SUMMARY:Hang with Revolution Club
LOCATION:Revolution Books\n2425 Channing Way(in the Sather Gate Parking Mall off of 
 Telegraph Avenue)Wheelchair accessible. Donations accepted.
URL:https://www.indybay.org/newsitems/2009/06/13/18601609.php
DTSTART:20090630T020000Z
DTEND:20090630T040000Z
END:VEVENT
END:VCALENDAR
