BEGIN:VCALENDAR
VERSION:2.0
X-WR-CALNAME:www.indybay.org
PRODID:-//indybay/ical// v1.0//EN
BEGIN:VEVENT
UID:Indybay-18601176
SEQUENCE:18651593
CREATED:20090610T004800Z
DESCRIPTION:By Remote Control:\nA Teach-In on Drones\nJune 22nd, 6:00pm, 
 Mudrakers\n\nLess than 10 years ago, our military had fewer than 100 
 “DRONES”, computer-operated killing machines.\n\nToday our military has 
 over 7000, responsible for the killing of 93% to 97% civilians during their 
 attacks, and Obama has asked for an additional $150 MILLION in his recent 
 War Supplemental to increase the number and technology of DRONES.\n\nWhat 
 are these killing machines? Where did they come from? How are they 
 operated? Is American life so much more precious than any other life on 
 this planet that it is acceptable for us to kill remotely, to kill without 
 direct risk to American life, to utilize robots, drones, video-operated 
 killing machines?\n\nFind out everything you never wanted to know about the 
 new and improved means with which our military is stamping out life in the 
 name of our empire. And find out what we are going to do about 
 it!*\n\nSusan Galleymore will be our guest presenter at this upcoming MMMEG 
 (Monthly Monday Meet, Eat & Greet), June 22nd 6:00pm at Mudraker’s Café, 
 2801 Telegraph Ave, Berkeley. RSVP 510-540-7007 or email info  
 bayareacodepink.org\n\nAlso presentations on Creech AFB, the heart of DRONE 
 operations by Janet Weil; the companies and their subsidiaries that profit 
 from the making of DRONES by Stephania Widget and Marie 
 Bravo.\n\nScrumptious Mediterranean Buffet and schmoozing with amazing 
 CodePINK commadres, including our new intern Kristy Kumar. \n\nSuggested 
 donations: $15 to $150! More if you can, less if you can’t! FUNDRAISER 
 for our *GROUND the DRONES Encampment July 2-14, and our delegation to 
 Vincenza to block yet another US military base!\n \n\n 
 https://www.indybay.org/newsitems/2009/06/09/18601176.php
SUMMARY:CodePINK MMMEG: By Remote Control
LOCATION:Mudrakers Cafe\n2801 Telegraph Ave\nBerkeley\n(corner of Stuart)
URL:https://www.indybay.org/newsitems/2009/06/09/18601176.php
DTSTART:20090623T010000Z
DTEND:20090623T033000Z
END:VEVENT
END:VCALENDAR
