BEGIN:VCALENDAR
VERSION:2.0
X-WR-CALNAME:www.indybay.org
PRODID:-//indybay/ical// v1.0//EN
BEGIN:VEVENT
UID:Indybay-18601151
SEQUENCE:18651544
CREATED:20090609T214000Z
DESCRIPTION:Since his boyhood in Libya, Neil MacFarquhar has developed a 
 counterintuitive sense that the Middle East, despite all the bloodshed in 
 its recent history, is a place of warmth, humanity, and generous 
 eccentricity. Having spent over 25 years in the Middle East and seeing the 
 violent news from the region creating a large gap between the outside image 
 and the internal reality, MacFarquhar shares the stories of a men and women 
 across the Middle East who are pioneering political and social change from 
 the most unexpected places.\n\nCheck-in: 5:30 PM; Program: 6:00 PM  
 \n\nCouncil Members: Free, Students: $5, Nonmembers: $15\n\nFor more 
 information and to register, visit the Council's website, call 
 415-293-4600, or email info@wacsf.org.\n 
 https://www.indybay.org/newsitems/2009/06/09/18601151.php
SUMMARY:World Affairs Council Presents Pioneers of Change in the Middle East
LOCATION:World Affairs Council Auditorium\n312 Sutter Street, 2nd Floor\nSan 
 Francisco, CA 94108
URL:https://www.indybay.org/newsitems/2009/06/09/18601151.php
DTSTART:20090630T010000Z
DTEND:20090630T020000Z
END:VEVENT
END:VCALENDAR
