BEGIN:VCALENDAR
VERSION:2.0
X-WR-CALNAME:www.indybay.org
PRODID:-//indybay/ical// v1.0//EN
BEGIN:VEVENT
UID:Indybay-18601110
SEQUENCE:18651578
CREATED:20090609T144000Z
DESCRIPTION:Amazing music.  In Fresno!\n\n6/24 Show: Hop Skotch Heros, Watercolor 
 Paintings, Yesterday's Chonies\n\nWednesday June 24 2009 at 
 7pm\n\nWatercolor Paintings (Santa Barbara harpcore)\nBackpack (Santa 
 Barbara lovely indie folk)\nHop Skotch Heros (Fresno riot 
 grrrl)\nYesterday's Chonies (Fresno old-timey, marching madness)\n\n$3 
 donation\n\nCAFE Fresno Infoshop\n935 F St (F & Tulare)\nFresno Chinatown 
 93706\n\nanarcha-feminist literature by entarchy distro\n 
 https://www.indybay.org/newsitems/2009/06/09/18601110.php
SUMMARY:6/24 Show: Hop Skotch Heros, Watercolor Paintings, Backpack, Yesterday's Chonies
LOCATION:CAFE Fresno Infoshop\n935 F St 
URL:https://www.indybay.org/newsitems/2009/06/09/18601110.php
DTSTART:20090624T140000Z
DTEND:20090624T170000Z
END:VEVENT
END:VCALENDAR
