BEGIN:VCALENDAR
VERSION:2.0
X-WR-CALNAME:www.indybay.org
PRODID:-//indybay/ical// v1.0//EN
BEGIN:VEVENT
UID:Indybay-18600478
SEQUENCE:18650593
CREATED:20090604T205200Z
DESCRIPTION:This Independence Day, Farm Sanctuary, the largest rescue and refuge 
 network for farm animals in North America, will welcome visitors to its 
 shelter in Orland, California for its annual Fourth of July Pig-nic: An 
 Independence Day for Farm Animals —a fun-filled day featuring free tours, 
 family-friendly activities and delicious veggie food. \n\nCelebrate 
 Independence Day with a barbeque that promotes life, liberty and the 
 pursuit of happiness for farm animals. Complete with cruelty-free veggie 
 dogs and other vegan food, this festive event provides compassionate 
 entertainment and free tours of the California Shelter. Guided tours will 
 be offered every hour, on the hour, from 11 a.m. until 3 p.m.\n\n 
 https://www.indybay.org/newsitems/2009/06/04/18600478.php
SUMMARY:Farm Sanctuary's Fourth of July Pig-nic: An Independence Day for Farm Animals
LOCATION:Farm Sanctuary, 19080 Newville Rd., Orland, CA 95963
URL:https://www.indybay.org/newsitems/2009/06/04/18600478.php
DTSTART:20090704T180000Z
DTEND:20090704T220000Z
END:VEVENT
END:VCALENDAR
