BEGIN:VCALENDAR
VERSION:2.0
X-WR-CALNAME:www.indybay.org
PRODID:-//indybay/ical// v1.0//EN
BEGIN:VEVENT
UID:Indybay-18600300
SEQUENCE:18650397
CREATED:20090603T223800Z
DESCRIPTION:World Refugee Day, adopted by the United Nations in 2001, is celebrated 
 around the world to pay tribute to all those, who, having been uprooted 
 from their homes, continue to persevere in rebuilding their lives. Join us 
 for presentations, food, entertainment, free health screenings, a wearable 
 art show, children's activities, and community resources in honor of this 
 day!  \n\nThis event is sponsored by Refugee and Immigrant Forum of Santa 
 Clara County and Santa Clara County Social Services Agency.  This event was 
 planned by Asian Americans for Community Involvement and co-sponsored by 
 Survivors International, a non-profit organization hosting a series of 
 events in their Week of Healing.  Visit www.survivorsintl.org for more Bay 
 Area events!  \n https://www.indybay.org/newsitems/2009/06/03/18600300.php
SUMMARY:17th Annual World Refugee Day
LOCATION:Campbell County Community Center, 1 W Campbell Ave. #C32, Campbell, 95008
URL:https://www.indybay.org/newsitems/2009/06/03/18600300.php
DTSTART:20090626T230000Z
DTEND:20090627T010000Z
END:VEVENT
END:VCALENDAR
