BEGIN:VCALENDAR
VERSION:2.0
X-WR-CALNAME:www.indybay.org
PRODID:-//indybay/ical// v1.0//EN
BEGIN:VEVENT
UID:Indybay-18597688
SEQUENCE:18646935
CREATED:20090525T000100Z
DESCRIPTION:Rally with Dolores Huerta and the National Union of Health Care Workers 
 (NUHW) to reverse cuts to Homecare.  This event will be held at the Eaton 
 Plaza Amphitheater - Mariposa and ‘N' Streets, Fresno.  Join us to send a 
 message to the Governor and County that Fresno homecare workers are Ready 
 to Reverse the Cuts with NUHW.  Dolores Huerta, co-founder of United Farm 
 Workers, will endorse caregivers' fight to take back our union!  For more 
 information, call the National Union of Healthcare Workers at 559-348-1245. 
  \n https://www.indybay.org/newsitems/2009/05/24/18597688.php
SUMMARY:Union Rally with Dolores Huerta
LOCATION:Eaton Plaza Amphitheater - Mariposa and ‘N' Streets, Fresno
URL:https://www.indybay.org/newsitems/2009/05/24/18597688.php
DTSTART:20090527T190000Z
DTEND:20090527T200000Z
END:VEVENT
END:VCALENDAR
