BEGIN:VCALENDAR
VERSION:2.0
X-WR-CALNAME:www.indybay.org
PRODID:-//indybay/ical// v1.0//EN
BEGIN:VEVENT
UID:Indybay-18597367
SEQUENCE:18648309
CREATED:20090524T000200Z
DESCRIPTION:Got fury? We sure don't got the $92 BILLION dollars Congress just approved 
 for Obama's War 'Supplemental'!\n\nWar Profiteering Corporations got $92 
 BILLION MORE dollars!\n\nThe people of Iraq, Afghanistan, and Pakistan got 
 death and destruction!\n\nTurn your fury into ACTION! Be prepared to TAKE 
 TO THE STREETS Noon on the day Obama signs this horrific killing 
 'Supplemental'.\n\nWe expect that will be June 1st or 2nd.\n\nWatch the 
 calendar at www.bayareacodepink.org for details or sign up by emailing info 
  bayareacodepink.org or calling 510-540-7007\n\nMay 31st we will have a 
 banner/poster making party/strategizing session. Call 510-540-7007 for 
 details.\n https://www.indybay.org/newsitems/2009/05/23/18597367.php
SUMMARY:Got Fury???
LOCATION:to be announced - check out the calendar at bayareacodepink.org or call 
 510-540-7007
URL:https://www.indybay.org/newsitems/2009/05/23/18597367.php
DTSTART:20090528T190000Z
DTEND:20090528T230000Z
END:VEVENT
END:VCALENDAR
