BEGIN:VCALENDAR
VERSION:2.0
X-WR-CALNAME:www.indybay.org
PRODID:-//indybay/ical// v1.0//EN
BEGIN:VEVENT
UID:Indybay-18597277
SEQUENCE:18646437
CREATED:20090523T190400Z
DESCRIPTION:Two and a half hour walk and talk through SF's historic newspaper district, 
 taking up the stories of labor activist and feminist Kate Kennedy 
 (1827-1890), Liberator of China Sun Yat-sen (1866-1925), and American 
 social philosopher Henry George (1839-1897). Using the Financial District 
 as a historic backdrop, this walk takes up land use issues, class 
 divisions, race segmentation, and housing wars as grist for a provocative 
 perspective on being human.\n 
 https://www.indybay.org/newsitems/2009/05/23/18597277.php
SUMMARY:Earth, Real Estate and Social Justice Walking Tour
LOCATION:312 Mason Street (American Youth Hostel), near Union Square, corner of 
 Mason and O'Farrell
URL:https://www.indybay.org/newsitems/2009/05/23/18597277.php
DTSTART:20090526T011500Z
DTEND:20090526T034500Z
END:VEVENT
END:VCALENDAR
