BEGIN:VCALENDAR
VERSION:2.0
X-WR-CALNAME:www.indybay.org
PRODID:-//indybay/ical// v1.0//EN
BEGIN:VEVENT
UID:Indybay-18596590
SEQUENCE:18645626
CREATED:20090521T152800Z
DESCRIPTION:"Crisis and Resistance: From Mexico to the United States"\nAn Educational 
 Conference w/ special guest speaker Mexican community leader Liliana 
 Garcia\n\nSaturday May 30 - 12pm - 4pm -De Anza College\nJoin us at this 
 special event, with Liliana Garcia, a well-known community activist and 
 leader of the Fourth International in Mexicali, Baja California. Garcia has 
 been a central organizer in the struggle against the privatization of 
 PEMEX, for workers' rights in the Maquiladoras, and for immigrant rights on 
 both sides of the border.\n\nGarcia is coming to the U.S. to speak about 
 the wave of revolution sweeping across Latin America - from Bolivia, to El 
 Salvador, to Venezuela - and the growing resistance movement in Mexico to 
 confront the current crisis caused by the mix of the swine flu, the 
 recession, and the militarization imposed by the corrupt, fraudulent 
 government.\nRico Blanc, a Bay Area youth immigrants' rights activist, will 
 speak about the current economic crisis, the potential for a new mass 
 radicalization like in the 1930s, and the future of capitalism and 
 socialism.\n\n12-2 pm - "Can Capitalism Survive?: The Current Financial 
 Crisis and the Revolutionary Alternative"\n2-4 pm - "Social Crisis and 
 Revolutionary Resistance in Mexico and Latin America"\nWhere: De Anza 
 College (Cupertino/San Jose) - 21250 Stevens Creek Blvd, Cupertino - Rm: 
 Admin 101\nWhen: Saturday May 30 -- 12pm to 4pm\n\n* Carpools from 
 throughout Northern California are being organized. Contact us if you need 
 a ride or can drive *\n\nSponsored by El Organizador and Socialist 
 Organizer\n\nAll are invited to the picnic/potluck/revolutionary soccer 
 game that will take place after event.\n\nPlease RSVP to 
 revolutionyouthsf@gmail.com\n\n\n 
 https://www.indybay.org/newsitems/2009/05/21/18596590.php
SUMMARY:Mexican activist Liliana Garcia speaks at Crisis and Resistance Educational Conference
LOCATION:De Anza College (Cupertino/San Jose) - 21250 Stevens Creek Blvd, Cupertino 
 - Rm: Admin 101
URL:https://www.indybay.org/newsitems/2009/05/21/18596590.php
DTSTART:20090530T190000Z
DTEND:20090530T230000Z
END:VEVENT
END:VCALENDAR
