BEGIN:VCALENDAR
VERSION:2.0
X-WR-CALNAME:www.indybay.org
PRODID:-//indybay/ical// v1.0//EN
BEGIN:VEVENT
UID:Indybay-18595710
SEQUENCE:18644531
CREATED:20090518T193600Z
DESCRIPTION:Come out to participate in the work of the Uhuru Solidarity Movement, a 
 part of the African Liberation Movement building a movement on the ground 
 against the policy of police containment and terror in Oakland and 
 beyond.\n\nWe will study the legacy of Malcolm X on his birthday and the 
 COINTELPRO program that destroyed the Black Power Movement of the 1960's. 
 \n\nFind out how to get involved with the African Village Survival 
 Initiative and support the work to build sustainability, justice and 
 programs led by and for the black community.\n\nUhuru means 
 freedom!\n\n\n\n https://www.indybay.org/newsitems/2009/05/18/18595710.php
SUMMARY:Support the Movement to Stop Police Terror Against the African Community
LOCATION:Humanist Hall, 390 - 27th St., Oakland
URL:https://www.indybay.org/newsitems/2009/05/18/18595710.php
DTSTART:20090520T020000Z
DTEND:20090520T040000Z
END:VEVENT
END:VCALENDAR
