BEGIN:VCALENDAR
VERSION:2.0
X-WR-CALNAME:www.indybay.org
PRODID:-//indybay/ical// v1.0//EN
BEGIN:VEVENT
UID:Indybay-18592627
SEQUENCE:18640777
CREATED:20090504T020600Z
DESCRIPTION:cass sing/jam\n https://www.indybay.org/newsitems/2009/05/03/18592627.php
SUMMARY:East Bay Free Skool Class: Singing for Power
LOCATION:Mosswood Park- Broadway and Macarthur 
URL:https://www.indybay.org/newsitems/2009/05/03/18592627.php
DTSTART:20090506T013000Z
DTEND:20090506T033000Z
END:VEVENT
END:VCALENDAR
