BEGIN:VCALENDAR
VERSION:2.0
X-WR-CALNAME:www.indybay.org
PRODID:-//indybay/ical// v1.0//EN
BEGIN:VEVENT
UID:Indybay-18592610
SEQUENCE:18640760
CREATED:20090504T011100Z
DESCRIPTION:Want to get involved with Free Skool and don’t know how? Want to learn 
 more about how things work? Do you have suggestions or questions?  Please 
 come to our open planning meetings and share your thoughts\n\n 
 https://www.indybay.org/newsitems/2009/05/03/18592610.php
SUMMARY:East Bay Free Skool Planning Meeting
LOCATION:The Long Haul Infoshop-3124 Shattuck Berkeley 
URL:https://www.indybay.org/newsitems/2009/05/03/18592610.php
DTSTART:20090505T010000Z
DTEND:20090505T020000Z
END:VEVENT
END:VCALENDAR
