BEGIN:VCALENDAR
VERSION:2.0
X-WR-CALNAME:www.indybay.org
PRODID:-//indybay/ical// v1.0//EN
BEGIN:VEVENT
UID:Indybay-18592284
SEQUENCE:18640405
CREATED:20090502T071900Z
DESCRIPTION:A permaculture/ garden skills workshop. 1100 food prep 1200 eat 1300 
 workshop 1400 planting roots \n 
 https://www.indybay.org/newsitems/2009/05/02/18592284.php
SUMMARY:East Bay Free Skool Class: Gardening Renegades
LOCATION:2185 Acton St., Berkeley 
URL:https://www.indybay.org/newsitems/2009/05/02/18592284.php
DTSTART:20090503T190000Z
DTEND:20090503T210000Z
END:VEVENT
END:VCALENDAR
