BEGIN:VCALENDAR
VERSION:2.0
X-WR-CALNAME:www.indybay.org
PRODID:-//indybay/ical// v1.0//EN
BEGIN:VEVENT
UID:Indybay-18592045
SEQUENCE:18640078
CREATED:20090430T231100Z
DESCRIPTION:In the 21st century, there is more and more global competition for power 
 and resources. Water is on of the most essential elements to human survival 
 and it is becoming more difficult to obtain for the world's growing 
 population. Water resource specialist, Dr. Jeff Albert will answer how we 
 can best solve our water scarcity problem. \n\nCheck-in: 11:30 AM; Program: 
 12:00 PM\n\nCouncil Members: Free, Students: Free, Nonmembers: $5\n\nFor 
 more information and to register, visit the Council's website, call 
 415-293-4600, or email info@wacsf.org.\n 
 https://www.indybay.org/newsitems/2009/04/30/18592045.php
SUMMARY:Noontime Lecture Series -- Water in Developing Countries: What Can Be Done?
LOCATION:World Affairs Council Auditorium\n312 Sutter Street, 2nd Floor\nSan 
 Francisco, CA 94108
URL:https://www.indybay.org/newsitems/2009/04/30/18592045.php
DTSTART:20090505T190000Z
DTEND:20090505T200000Z
END:VEVENT
END:VCALENDAR
