BEGIN:VCALENDAR
VERSION:2.0
X-WR-CALNAME:www.indybay.org
PRODID:-//indybay/ical// v1.0//EN
BEGIN:VEVENT
UID:Indybay-18591211
SEQUENCE:18638844
CREATED:20090425T194200Z
DESCRIPTION:2009 marks the 75th anniversary of "The Big Strike," when longshore workers 
 up and down the west coast shut down the ports for more than two months, to 
 be joined in San Francisco by dozens of other unions for a General Strike 
 in the summer of 1934. The General Strike led to a surge in unionization 
 and and an important milestone in the fight for racial equality. All this 
 despite an economic depression.\n\nJoin us for a discussion of the 
 relevance of this struggle for the new fights we face today!\n\nSaturday, 
 May 9th at 6:00pm\nPlumbers Hall\n1621 Market Street @ Gough Street\nSan 
 Francisco, CA\n\n\nFeatured Speakers:\n\nClarence Thomas, former Secretary 
 Treasurer of the International Longshore and Warehouse Union Local 10 
 (ILWU)\n\nSharon Smith, author of Subterranean Fire: A History of Working 
 Class Radicalism in the United States\n\nFor more information, email 
 BayAreaHaymarket@gmail.com.\n 
 https://www.indybay.org/newsitems/2009/04/25/18591211.php
SUMMARY:75th Anniversary of the San Francisco General Strike
LOCATION:Plumbers Hall\n1621 Market Street at Gough Street\nSan Francisco, CA
URL:https://www.indybay.org/newsitems/2009/04/25/18591211.php
DTSTART:20090510T010000Z
DTEND:20090510T030000Z
END:VEVENT
END:VCALENDAR
