BEGIN:VCALENDAR
VERSION:2.0
X-WR-CALNAME:www.indybay.org
PRODID:-//indybay/ical// v1.0//EN
BEGIN:VEVENT
UID:Indybay-18591108
SEQUENCE:18638733
CREATED:20090425T020200Z
DESCRIPTION:Lear about the effect of Anti- Immigrant legeslation in the Bay Area. Week 
 of Immigrant Justice\n 
 https://www.indybay.org/newsitems/2009/04/24/18591108.php
SUMMARY:Teach-in on local impact of immigration policies
LOCATION:Pueblo Nuevo Gallery 1828 San Pablo Ave  Suite 1 Berkeley Ca
URL:https://www.indybay.org/newsitems/2009/04/24/18591108.php
DTSTART:20090501T020000Z
DTEND:20090501T050000Z
END:VEVENT
END:VCALENDAR
