BEGIN:VCALENDAR
VERSION:2.0
X-WR-CALNAME:www.indybay.org
PRODID:-//indybay/ical// v1.0//EN
BEGIN:VEVENT
UID:Indybay-18590644
SEQUENCE:18638114
CREATED:20090421T194400Z
DESCRIPTION:Meet at the Bike Church and ride to the Bike Shack! Watsonville ain't that 
 far: enjoy a May Day bike ride to the Plaza de Watsonville arriving just in 
 time to protest Wells Fargo's misdeeds and march through Watsonville in 
 celebration of the worker's holiday. Checking out the Brown Beret Bike 
 Shack and the weekly Watsonville Farmers Market are side benefits. It's a 
 Free Skool ride: three-ish hours; you can bus back if you don't want to 
 ride back. \n\n**But bring what you need for the road (and for the 
 march)**\n\nfor more info about the march and 
 rally:\nhttp://www.brownberets.info\n 
 https://www.indybay.org/newsitems/2009/04/21/18590644.php
SUMMARY:Bike to Watson for May Day March
LOCATION:Meet at the Bike Church on Pacific Downtown Santa Cruz--ride to the Bike 
 Shack on Main Downtown Watsonville.
URL:https://www.indybay.org/newsitems/2009/04/21/18590644.php
DTSTART:20090501T190000Z
DTEND:20090501T230000Z
END:VEVENT
END:VCALENDAR
