BEGIN:VCALENDAR
VERSION:2.0
X-WR-CALNAME:www.indybay.org
PRODID:-//indybay/ical// v1.0//EN
BEGIN:VEVENT
UID:Indybay-18589988
SEQUENCE:18637292
CREATED:20090418T021100Z
DESCRIPTION:May 8, 2009 at 11am -- Winslow & Abraham Norton Pre-Trial Conference\n\nThe 
 pre-trial conference will take place in the Oakland Federal Building at 
 1301 Clay Street in Oakland, CA with Judge Jensen.\n 
 https://www.indybay.org/newsitems/2009/04/17/18589988.php
SUMMARY:MEDICAL MARIJUANA COURT DATE: Winslow & Abraham Norton
LOCATION:Oakland Federal Building at 1301 Clay Street in Oakland
URL:https://www.indybay.org/newsitems/2009/04/17/18589988.php
DTSTART:20090508T180000Z
DTEND:20090508T200000Z
END:VEVENT
END:VCALENDAR
