BEGIN:VCALENDAR
VERSION:2.0
X-WR-CALNAME:www.indybay.org
PRODID:-//indybay/ical// v1.0//EN
BEGIN:VEVENT
UID:Indybay-18589931
SEQUENCE:18637241
CREATED:20090417T190500Z
DESCRIPTION:We will show two videos on San Salvador Atenco and give some background on 
 the community’s successful 2001 & 2002 resistance to government plans to 
 build an airport on their land. The second video will show police 
 terrorizing the community on May 3 and 4, 2006, several days after the 
 Zapatista Other Campaign Caravan visited Atenco.  We will have information 
 on a new campaign to free the 12 remaining political prisoners.  This video 
 commemoration is part of a coordinated national campaign in Mexico and an 
 international support campaign to remember what happened in Atenco and to 
 free the Atenco prisoners. Free admission. \n\nArtesanía from Zapatista 
 cooperatives available: T-Shirts, Blouses (huipiles), purses, ski masks, 
 paliacates (bandanas) and more!\n\nSponsored by: Chiapas Support 
 Committee\nFor more information: (510) 654-9587\nemail: 
 cezmat@igc.org\n\n\n\n 
 https://www.indybay.org/newsitems/2009/04/17/18589931.php
SUMMARY:Justice for San Salvador Atenco!
LOCATION:Niebyl Proctor Marxist Library \n6501 Telegraph Avenue\nOakland, California
URL:https://www.indybay.org/newsitems/2009/04/17/18589931.php
DTSTART:20090504T013000Z
DTEND:20090504T033000Z
END:VEVENT
END:VCALENDAR
