BEGIN:VCALENDAR
VERSION:2.0
X-WR-CALNAME:www.indybay.org
PRODID:-//indybay/ical// v1.0//EN
BEGIN:VEVENT
UID:Indybay-18589559
SEQUENCE:18636763
CREATED:20090416T171200Z
DESCRIPTION:The lawn is the most water-intensive landscape planting. Merry Kindred, 
 Marin Master Gardener, will explain how replacing all or a portion of your 
 lawn with easy-care natives and other Mediterranean-climate plants can 
 reduce your water consumption by as much as 80%.\n\nFREE public seminar.\n 
 https://www.indybay.org/newsitems/2009/04/16/18589559.php
SUMMARY:Do You Really Need That Lawn?
LOCATION:Marin County Library/Board of Supervisor's \nRoom 330, 3501 Civic Center 
 Dr., San Rafael
URL:https://www.indybay.org/newsitems/2009/04/16/18589559.php
DTSTART:20090508T190000Z
DTEND:20090508T200000Z
END:VEVENT
END:VCALENDAR
