BEGIN:VCALENDAR
VERSION:2.0
X-WR-CALNAME:www.indybay.org
PRODID:-//indybay/ical// v1.0//EN
BEGIN:VEVENT
UID:Indybay-18587560
SEQUENCE:18634292
CREATED:20090411T042300Z
DESCRIPTION:May Day immigrant rights march starts at Eaton Plaza in downtown Fresno.  
 Themes of the march are “United for Immigration Reform” and “Stop the 
 Raids and Separation of Families.”  For more information, call (559) 
 499-1178 or (559) 266-5291.  For audio and photos from the April 10 press 
 conference announcing the march and rally, see: 
 http://www.indybay.org/newsitems/2009/04/10/18587552.php \n\n 
 https://www.indybay.org/newsitems/2009/04/10/18587560.php
SUMMARY:March for Legalization
LOCATION:Eaton Plaza in downtown Fresno
URL:https://www.indybay.org/newsitems/2009/04/10/18587560.php
DTSTART:20090502T000000Z
DTEND:20090502T030000Z
END:VEVENT
END:VCALENDAR
