BEGIN:VCALENDAR
VERSION:2.0
X-WR-CALNAME:www.indybay.org
PRODID:-//indybay/ical// v1.0//EN
BEGIN:VEVENT
UID:Indybay-18586392
SEQUENCE:18632822
CREATED:20090406T154200Z
DESCRIPTION:Bay Area Military Mom Susan Galleymore’s\nBook About Mothers and War 
 Launches at San Francisco Event\nwith Mary Tillman, Mother of Fallen 
 Football Star Pat Tillman\n\nMUSIC, POETRY, ART EXHIBIT, 
 REFRESHMENTS!\nKaylah Marin, Soul Singer Songwriter,\nJack Hirschman, SF 
 Poet Laureate, and\nRobert Abdul Hayy Darr Author/Translator\nto Perform at 
 April 28th Celebration\n\nBay Area Military mother Susan Galleymore, made 
 international headlines when she traveled to Iraq to visit her soldier son, 
 is launching her new book, Long Time Passing Mother Speak About War and 
 Terror, a collection of first-person dramatic accounts of the impact of war 
 on mothers and families around-the-globe.  \nLocal US military and Afghan 
 moms profiled in book, musicians, poets, and artists will celebrate the 
 publication.\n\nLONG TIME PASSING BOOK LAUNCH AND CELEBRATION:\n\nWHEN: 
 Tuesday, April 28, 2009.\nReception/Refreshments: 6:30 p.m., Event begins 
 7:00 p.m.\n\nWHERE: Grace Cathedral's Grisham Hall,\n1100 California 
 Street, San Francisco, CA 94108\n\nWHO: Susan Galleymore, US soldier son 
 served in Afghanistan and Iraq, Author and MotherSpeak founder\nMary 
 Tillman, mother of football star turned US soldier Pat Tillman killed by 
 friendly fire in Afghanistan\nRachel Avila, US soldier son was severely 
 injured in Iraq\nAsma Eschen, Afghan mother, Afghans4Tomorrow and Bare 
 Roots Project\nRahima Haya, Afghan mother, Afghan Women's Association and 
 Berkeley Bamyan Education Foundation;\nand others TBA.\n\nSPECIAL MUSICAL 
 GUEST: Kaylah Marin, Bay Area's multi-talented neo-soul singer and 
 songwriter\n\nPOETRY: Jack Hirschman, San Francisco’s Poet Laureate 2006 
 - "Path";\nRobert Abdul Hayy Darr - Author Translator to perform famed 
 Afhgan Poet Rumi's "There is a field".\n\nMC: Rose Aguilar, author and host 
 of KALW Your Call Radio\n\nBOOK SIGNING TO FOLLOW EVENT: With author, Susan 
 Galleymore\n \nSUGGESTED DONATION: $5.00 - $10.00 (Proceeds to go to 
 MotherSpeak - No one turned away for lack of funds.)\n\nSPONSORED BY: 
 American Friends Service Committee (AFSC) - SF,  MotherSpeak, Women's 
 Intercultural Network (WIN); Media Sponsors: KPFA 90.1 FM Berkeley, KALW 
 91.7 SF; Bookstore Sponsor: Books, Inc. SF\n\nFOR MORE INFO ON SF EVENT 
 CONTACT: info_SF@mothersspeakaboutwarandterror.org (public) or 
 visit\nwww.mothersspeakaboutwarandterror.org\n\n 
 https://www.indybay.org/newsitems/2009/04/06/18586392.php
SUMMARY:BA Military Mom Susan Galleymore’s Book on Mothers & War Launches Celebration
LOCATION:Grace Cathedral's Grisham Hall,\n1100 California Street, San Francisco, CA 
 94108
URL:https://www.indybay.org/newsitems/2009/04/06/18586392.php
DTSTART:20090429T013000Z
DTEND:20090429T040000Z
END:VEVENT
END:VCALENDAR
