BEGIN:VCALENDAR
VERSION:2.0
X-WR-CALNAME:www.indybay.org
PRODID:-//indybay/ical// v1.0//EN
BEGIN:VEVENT
UID:Indybay-18586054
SEQUENCE:18632444
CREATED:20090404T233900Z
DESCRIPTION:First in a series of discussions to dig further into the article On 
 Developments in Nepal and the Stakes for the Communist Movement: Letters to 
 the Communist Party of Nepal (Maoist) from the \nRevolutionary Communist 
 Party, USA, 2005-2008 (With a Reply from the CPN(M), 2006).” This 
 discussion will focus on the nature of the state, and specifically the need 
 to establish a new state led by the proletariat and its communist vanguard, 
 as opposed to a strategy centering on participating in, and what amounts to 
 “perfecting,” the reactionary state (minus the monarchy, in the case of 
 Nepal).\n\n\n https://www.indybay.org/newsitems/2009/04/04/18586054.php
SUMMARY:On Developments in Nepal and the Stakes for the Communist Movement: Letters to the Communi
LOCATION:Revolution Books\n2425 Channing Way(in the Sather Gate Parking Mall off of 
 Telegraph Avenue)\nBerkeley,CA 94704\nWheelchair accessible.Donations 
 accepted.\n	\n
URL:https://www.indybay.org/newsitems/2009/04/04/18586054.php
DTSTART:20090408T020000Z
DTEND:20090408T040000Z
END:VEVENT
END:VCALENDAR
