BEGIN:VCALENDAR
VERSION:2.0
X-WR-CALNAME:www.indybay.org
PRODID:-//indybay/ical// v1.0//EN
BEGIN:VEVENT
UID:Indybay-18585993
SEQUENCE:18633047
CREATED:20090404T155800Z
DESCRIPTION:Proposed budget cuts at UCSC to come into effect July 2009 "disband the 
 administration" at Community Studies, "laying off" lecturers and cutting 
 the Field Study program. This program benefits not only students, but 
 various community organizations in Santa Cruz, all over the state, nation 
 and the world. All supporters are welcome. This meeting will discuss the 
 current information, strategy, and next steps we can take for opposing this 
 unjust budget. \n\nthank you for your support\ngoogle: save community 
 studies\n https://www.indybay.org/newsitems/2009/04/04/18585993.php
SUMMARY:Save Community Studies! Emergency Meeting
LOCATION:Meeting to discuss the Defense of the Community Studies Department at UCSC.
URL:https://www.indybay.org/newsitems/2009/04/04/18585993.php
DTSTART:20090408T010000Z
DTEND:20090408T020000Z
END:VEVENT
END:VCALENDAR
