BEGIN:VCALENDAR
VERSION:2.0
X-WR-CALNAME:www.indybay.org
PRODID:-//indybay/ical// v1.0//EN
BEGIN:VEVENT
UID:Indybay-18585875
SEQUENCE:18632224
CREATED:20090403T234300Z
DESCRIPTION:Celebrate Mother’s Day Weekend in the spirit of Peace & Justice\n\nJoin 
 the San Jose Peace & Justice Center and the Raging Grannies for a lively 
 evening of food, film, and fun. Enjoy a tasty vegetarian dinner and ice 
 cream desert. See Raging Grannies, the film that was a big hit at the 
 Cinequest Film Festival. Meet the film’s director, Pam Walton, and sing 
 along with the Grannies and Annie & the Vets\nTickets: $25\nKids under 12: 
 $10\nStudents and unemployed: $15\n\nAnnual Spring fundraiser for the San 
 Jose Peace & Justice Center\n\nFor more information: sanjosepeace.org 
 408-297-2299\n\n\n 
 https://www.indybay.org/newsitems/2009/04/03/18585875.php
SUMMARY:Kick off Mothers' Day Weekend with San Jose Peace & Justice Center & Raging Grannies
LOCATION:Teamsters' Hall\n1452 North 4th St. (near E. Gish Rd)\nSan Jose
URL:https://www.indybay.org/newsitems/2009/04/03/18585875.php
DTSTART:20090509T010000Z
DTEND:20090509T040000Z
END:VEVENT
END:VCALENDAR
