BEGIN:VCALENDAR
VERSION:2.0
X-WR-CALNAME:www.indybay.org
PRODID:-//indybay/ical// v1.0//EN
BEGIN:VEVENT
UID:Indybay-18585732
SEQUENCE:18632063
CREATED:20090403T195100Z
DESCRIPTION:The Bayview Branch Library Artist Selection Panel has chosen artists Marion 
 Coleman, Mildred Howard and Ron Saunders to prepare conceptual design 
 proposals for public artwork at the new Branch. Come see the three 
 proposals and provide the San Francisco Arts Commission with feedback by 
 contributing your thoughts to the comment book on site. Comments will be 
 shared with the Selection Panel before a proposals is selected.\n 
 https://www.indybay.org/newsitems/2009/04/03/18585732.php
SUMMARY:PUBLIC VIEWING: Artist Proposals for the new Bayview Branch Library Public Art Program
LOCATION:Bayview Library \n5075 3rd Street\nSan Francisco, CA 94124\n
URL:https://www.indybay.org/newsitems/2009/04/03/18585732.php
DTSTART:20090429T010000Z
DTEND:20090429T030000Z
END:VEVENT
END:VCALENDAR
